BEGIN:VCALENDAR
VERSION:2.0
PRODID:-//IDnext - ECPv5.14.0.4//NONSGML v1.0//EN
CALSCALE:GREGORIAN
METHOD:PUBLISH
X-WR-CALNAME:IDnext
X-ORIGINAL-URL:https://idnext.eu
X-WR-CALDESC:Events for IDnext
BEGIN:VTIMEZONE
TZID:Europe/Amsterdam
BEGIN:DAYLIGHT
TZOFFSETFROM:+0100
TZOFFSETTO:+0200
TZNAME:CEST
DTSTART:20210328T010000
END:DAYLIGHT
BEGIN:STANDARD
TZOFFSETFROM:+0200
TZOFFSETTO:+0100
TZNAME:CET
DTSTART:20211031T010000
END:STANDARD
END:VTIMEZONE
BEGIN:VEVENT
DTSTART;TZID=Europe/Amsterdam:20211011T093000
DTEND;TZID=Europe/Amsterdam:20211012T170000
DTSTAMP:20260420T010713
CREATED:20200206T143957Z
LAST-MODIFIED:20210913T211359Z
UID:2071-1633944600-1634058000@idnext.eu
SUMMARY:IDnext annual event 2021 'Identity matters!
DESCRIPTION:Whilst we are about to reopen our post-covid societies\, Digital Identity will continue to be a matter of great importance. For enhanced privacy\, inclusive society\, better safety assurance\, safe transactions and above all; new exciting services. With the ID-Next ’21 conference ‘Identity Matters’ we want to emphasize why questions of digital identity really matter and how we address and respond to them. We invite everyone to join in on ID-Next ’21\, to contribute to the discussions and share their vision on identity and it’s adjacent matters and challenges. \nYou are welcome to join on 11-12 October 2021. More information is available via this link.
URL:https://idnext.eu/event/idnext-annual-event-2021
LOCATION:de fabrique\, Westkanaaldijk 7\, Urecht\, 3542 DA
CATEGORIES:IDnext events
ATTACH;FMTTYPE=image/png:https://idnext.eu/wp-content/uploads/2020/02/Congreslogo-IDnext-Event-2021-2160x1080-1.png
END:VEVENT
END:VCALENDAR