BEGIN:VCALENDAR
VERSION:2.0
PRODID:-//IDnext - ECPv5.14.0.4//NONSGML v1.0//EN
CALSCALE:GREGORIAN
METHOD:PUBLISH
X-WR-CALNAME:IDnext
X-ORIGINAL-URL:https://idnext.eu
X-WR-CALDESC:Events for IDnext
BEGIN:VTIMEZONE
TZID:Europe/Amsterdam
BEGIN:DAYLIGHT
TZOFFSETFROM:+0100
TZOFFSETTO:+0200
TZNAME:CEST
DTSTART:20260329T010000
END:DAYLIGHT
BEGIN:STANDARD
TZOFFSETFROM:+0200
TZOFFSETTO:+0100
TZNAME:CET
DTSTART:20261025T010000
END:STANDARD
END:VTIMEZONE
BEGIN:VEVENT
DTSTART;TZID=Europe/Amsterdam:20260602T090000
DTEND;TZID=Europe/Amsterdam:20260602T180000
DTSTAMP:20260424T180702
CREATED:20260107T104151Z
LAST-MODIFIED:20260107T104151Z
UID:6168-1780390800-1780423200@idnext.eu
SUMMARY:IAM event 2026
DESCRIPTION:From control to confidence in the age of AIAI is becoming increasingly autonomous\, fundamentally reshaping how we manage digital identities: IAM is shifting from control to building trust between humans\, machines\, and algorithms. At the same time\, IAM now spans a much broader domain — from data-driven IAM\, PBAC\, and modern PAM to CIAM\, digital wallets\, non-human identities\, supply-chain governance\, and identity-centric risk and compliance. \nIAM 2026 brings all these developments together in one future-focused program. \nDon’t miss it: join us on 2 June and meet the peers\, experts\, and innovators shaping tomorrow’s IAM landscape. \nFor tickets and more information please visit the website.
URL:https://idnext.eu/event/iam-event-2026
LOCATION:Postillion Convention Centre Utrecht\, Baan van Fectio 1\, Utrecht-Bunnik\, Netherlands
CATEGORIES:external events
ATTACH;FMTTYPE=image/png:https://idnext.eu/wp-content/uploads/2023/01/Netwerkplein-2022.png
END:VEVENT
END:VCALENDAR